BEGIN:VCALENDAR
VERSION:2.0
PRODID:-//wp-events-plugin.com//7.2.3.1//EN
TZID:America/Chicago
X-WR-TIMEZONE:America/Chicago
BEGIN:VEVENT
UID:51@alpost21.com
DTSTART;TZID=America/Chicago;VALUE=DATE:20210620
DTEND;TZID=America/Chicago;VALUE=DATE:20210626
DTSTAMP:20210228T101527Z
URL:https://alpost21.com/events/ala-badger-girls-state-cancelled/
SUMMARY:ALA Badger Girl's State Cancelled
DESCRIPTION:UW Oshkosh campus\, June 20-25\, 2021 - Cancelled
CATEGORIES:State and National Events
END:VEVENT
BEGIN:VTIMEZONE
TZID:America/Chicago
X-LIC-LOCATION:America/Chicago
BEGIN:DAYLIGHT
DTSTART:20210314T030000
TZOFFSETFROM:-0600
TZOFFSETTO:-0500
TZNAME:CDT
END:DAYLIGHT
END:VTIMEZONE
END:VCALENDAR