BEGIN:VCALENDAR
VERSION:2.0
PRODID:-//wp-events-plugin.com//7.2.3.1//EN
TZID:America/Chicago
X-WR-TIMEZONE:America/Chicago
BEGIN:VEVENT
UID:692@alpost21.com
DTSTART;TZID=America/Chicago:20260614T090000
DTEND;TZID=America/Chicago:20260614T103000
DTSTAMP:20260209T190055Z
URL:https://alpost21.com/events/flag-day-flag-retirement-ceremony/
SUMMARY:Flag Day / Flag Retirement Ceremony
DESCRIPTION:Post Family Flag Retirement Ceremony
CATEGORIES:Legion Family Events
LOCATION:American Legion Post 21\, 504 58th Street\, Kenosha\, WI\, 53140\,
  United States
X-APPLE-STRUCTURED-LOCATION;VALUE=URI;X-ADDRESS=504 58th Street\, Kenosha\,
  WI\, 53140\, United States;X-APPLE-RADIUS=100;X-TITLE=American Legion Pos
 t 21:geo:0,0
END:VEVENT
BEGIN:VTIMEZONE
TZID:America/Chicago
X-LIC-LOCATION:America/Chicago
BEGIN:DAYLIGHT
DTSTART:20260308T030000
TZOFFSETFROM:-0600
TZOFFSETTO:-0500
TZNAME:CDT
END:DAYLIGHT
END:VTIMEZONE
END:VCALENDAR