BEGIN:VCALENDAR
VERSION:2.0
PRODID:-//wp-events-plugin.com//7.2.3.1//EN
TZID:America/Chicago
X-WR-TIMEZONE:America/Chicago
BEGIN:VEVENT
UID:718@alpost21.com
DTSTART;TZID=America/Chicago:20260425T074500
DTEND;TZID=America/Chicago:20260425T081500
DTSTAMP:20260418T015740Z
URL:https://alpost21.com/events/present-colors-shoreland-invitational/
SUMMARY:Present Colors Shoreland Invitational
DESCRIPTION:WI Sportsman Association\n\n16010 Durand\n\nUnion Grove\, Wi
CATEGORIES:Color Guard
LOCATION:WI Sportsman Association\, 16010 Durand Ave\, Union Grove\, Wiscon
 sin\, 53534\, United States
X-APPLE-STRUCTURED-LOCATION;VALUE=URI;X-ADDRESS=16010 Durand Ave\, Union Gr
 ove\, Wisconsin\, 53534\, United States;X-APPLE-RADIUS=100;X-TITLE=WI Spor
 tsman Association:geo:0,0
END:VEVENT
BEGIN:VTIMEZONE
TZID:America/Chicago
X-LIC-LOCATION:America/Chicago
BEGIN:DAYLIGHT
DTSTART:20260308T030000
TZOFFSETFROM:-0600
TZOFFSETTO:-0500
TZNAME:CDT
END:DAYLIGHT
END:VTIMEZONE
END:VCALENDAR